BEGIN:VCALENDAR
VERSION:2.0
PRODID:-//jEvents 2.0 for Joomla//EN
CALSCALE:GREGORIAN
METHOD:PUBLISH
BEGIN:VTIMEZONE
TZID:Europe/Berlin
BEGIN:STANDARD
DTSTART:20201126T193000
RDATE:20210328T030000
TZOFFSETFROM:+0200
TZOFFSETTO:+0100
TZNAME:Europe/Berlin CET
END:STANDARD
END:VTIMEZONE
BEGIN:VEVENT
UID:eaa0b892254f12dccabbd3b10f52d9c2
CATEGORIES:DEFAULT
CREATED:20211024T113509
SUMMARY:B-W Volleys : Hünfelder SV
DESCRIPTION:
DTSTAMP:20260425T153151
DTSTART;TZID=Europe/Berlin:20211127T193000
SEQUENCE:0
TRANSP:OPAQUE
END:VEVENT
END:VCALENDAR