BEGIN:VCALENDAR
VERSION:2.0
PRODID:-//jEvents 2.0 for Joomla//EN
CALSCALE:GREGORIAN
METHOD:PUBLISH
BEGIN:VTIMEZONE
TZID:Europe/Berlin
BEGIN:STANDARD
DTSTART:20201113T130000
RDATE:20210328T030000
TZOFFSETFROM:+0200
TZOFFSETTO:+0100
TZNAME:Europe/Berlin CET
END:STANDARD
END:VTIMEZONE
BEGIN:VEVENT
UID:806ec4be6fa6bd7dc6a7b7d29c2ca337
CATEGORIES:DEFAULT
CREATED:20211024T113420
SUMMARY:B-W Volleys : FSV Bergshausen
DESCRIPTION:
DTSTAMP:20260423T160240
DTSTART;TZID=Europe/Berlin:20211114T130000
SEQUENCE:0
TRANSP:OPAQUE
END:VEVENT
END:VCALENDAR